BEGIN:VCALENDAR
VERSION:2.0
PRODID:-//Jesse Campbell Eventing - ECPv6.15.20//NONSGML v1.0//EN
CALSCALE:GREGORIAN
METHOD:PUBLISH
X-WR-CALNAME:Jesse Campbell Eventing
X-ORIGINAL-URL:https://jessecampbelleventing.com
X-WR-CALDESC:Events for Jesse Campbell Eventing
REFRESH-INTERVAL;VALUE=DURATION:PT1H
X-Robots-Tag:noindex
X-PUBLISHED-TTL:PT1H
BEGIN:VTIMEZONE
TZID:UTC
BEGIN:STANDARD
TZOFFSETFROM:+0000
TZOFFSETTO:+0000
TZNAME:UTC
DTSTART:20150101T000000
END:STANDARD
END:VTIMEZONE
BEGIN:VEVENT
DTSTART;TZID=UTC:20180509T080000
DTEND;TZID=UTC:20180512T170000
DTSTAMP:20260419T185727
CREATED:20180417T062802Z
LAST-MODIFIED:20180417T062802Z
UID:4719-1525852800-1526144400@jessecampbelleventing.com
SUMMARY:Aston-le-Walls
DESCRIPTION:Appalachia – Novice \nDecaw Diamond – Novice \nDiachello – Intermediate \nI-Spye – Intermediate \nMorning Faulty – Intermediate \nShadow Fearless – Intermediate
URL:https://jessecampbelleventing.com/calendar/aston-le-walls-3/
LOCATION:Aston-le-Walls
END:VEVENT
BEGIN:VEVENT
DTSTART;TZID=UTC:20180428T080000
DTEND;TZID=UTC:20180429T170000
DTSTAMP:20260419T185727
CREATED:20180417T061054Z
LAST-MODIFIED:20180417T061054Z
UID:4710-1524902400-1525021200@jessecampbelleventing.com
SUMMARY:Withington Manor
DESCRIPTION:Amsterdam – Advance \nCleveland – Open Intermediate \nDiachello – Intermediate \nRLE Chic – Intermediate \nShadow Fearless – Intermediate
URL:https://jessecampbelleventing.com/calendar/withington-manor-2/
LOCATION:Withington Manor\, Withington Estate\, Nr Cheltenham\, Gloucestershire\, GL544BG\, United Kingdom
END:VEVENT
BEGIN:VEVENT
DTSTART;TZID=UTC:20180420T080000
DTEND;TZID=UTC:20180422T170000
DTSTAMP:20260419T185727
CREATED:20180417T034918Z
LAST-MODIFIED:20180417T060304Z
UID:4704-1524211200-1524416400@jessecampbelleventing.com
SUMMARY:Bicton Arena International
DESCRIPTION:Appalachia – Novice \nDecaw Diamond – Novice \nDiachello – Novice \nMorning Faulty – Novice \nShadow Fearless – Novice
URL:https://jessecampbelleventing.com/calendar/bicton-arena/
LOCATION:Bicton Arena International\, East Budleigh\, Budleigh\, Devon\, EX97BL\, United Kingdom
END:VEVENT
BEGIN:VEVENT
DTSTART;TZID=UTC:20180413T080000
DTEND;TZID=UTC:20180415T170000
DTSTAMP:20260419T185727
CREATED:20180417T034540Z
LAST-MODIFIED:20180417T034540Z
UID:4701-1523606400-1523811600@jessecampbelleventing.com
SUMMARY:Belton International
DESCRIPTION:Amsterdam – CIC 3* \nRLE Chic – Novice \nI-Spye – Intermediate
URL:https://jessecampbelleventing.com/calendar/belton-international/
END:VEVENT
BEGIN:VEVENT
DTSTART;TZID=UTC:20180407T080000
DTEND;TZID=UTC:20180407T170000
DTSTAMP:20260419T185727
CREATED:20180417T034154Z
LAST-MODIFIED:20180417T034154Z
UID:4697-1523088000-1523120400@jessecampbelleventing.com
SUMMARY:Larkhill
DESCRIPTION:Appalachia BE100 \nDecaw Diamond BE100 \nMorning Faulty Novice
URL:https://jessecampbelleventing.com/calendar/larkhill/
END:VEVENT
BEGIN:VEVENT
DTSTART;VALUE=DATE:20170718
DTEND;VALUE=DATE:20170719
DTSTAMP:20260419T185727
CREATED:20170914T203937Z
LAST-MODIFIED:20170914T203937Z
UID:4526-1500336000-1500422399@jessecampbelleventing.com
SUMMARY:Dauntsey Park
DESCRIPTION:Morning Faulty – 100
URL:https://jessecampbelleventing.com/calendar/dauntsey-park/
END:VEVENT
BEGIN:VEVENT
DTSTART;VALUE=DATE:20170712
DTEND;VALUE=DATE:20170713
DTSTAMP:20260419T185727
CREATED:20170914T203737Z
LAST-MODIFIED:20170914T203737Z
UID:4523-1499817600-1499903999@jessecampbelleventing.com
SUMMARY:Upton Arena
DESCRIPTION:Cosa Nostra – Intermediate \nFado – Intermediate \nVendi Fox – Novice \nMorning Faulty – 100
URL:https://jessecampbelleventing.com/calendar/upton-arena/
END:VEVENT
BEGIN:VEVENT
DTSTART;TZID=UTC:20170707T080000
DTEND;TZID=UTC:20170709T170000
DTSTAMP:20260419T185727
CREATED:20170914T203316Z
LAST-MODIFIED:20170914T203316Z
UID:4519-1499414400-1499619600@jessecampbelleventing.com
SUMMARY:Barbury Castle Estate
DESCRIPTION:I Spye – Novice
URL:https://jessecampbelleventing.com/calendar/barbury-castle-estate/
LOCATION:Barbury Castle Estate\, Rockley\, Nr Marlborough\, Wiltshire\, SN8 1RS\, United Kingdom
END:VEVENT
BEGIN:VEVENT
DTSTART;TZID=UTC:20170624T080000
DTEND;TZID=UTC:20170625T170000
DTSTAMP:20260419T185727
CREATED:20170914T203112Z
LAST-MODIFIED:20170914T203112Z
UID:4516-1498291200-1498410000@jessecampbelleventing.com
SUMMARY:Farley Hall
DESCRIPTION:Morning Faulty – 100 \nI Spye – Novice \nFado – Intermediate \nCosa Nostra – Intermediate \nKaapachino – Advance
URL:https://jessecampbelleventing.com/calendar/farley-hall-2/
LOCATION:Farley Hall\, Swallowfield Park\, Swallowfield\, Berkshire\, RG7ITG\, United Kingdom
END:VEVENT
BEGIN:VEVENT
DTSTART;TZID=UTC:20170608T080000
DTEND;TZID=UTC:20170611T170000
DTSTAMP:20260419T185727
CREATED:20170914T202816Z
LAST-MODIFIED:20170914T202816Z
UID:4513-1496908800-1497200400@jessecampbelleventing.com
SUMMARY:Bramham International
DESCRIPTION:Cleveland  – CCI3*
URL:https://jessecampbelleventing.com/calendar/bramham-international-2/
LOCATION:Bramham International\, Wetherby\, West Yorkshire\, LS236ND\, United Kingdom
END:VEVENT
BEGIN:VEVENT
DTSTART;TZID=UTC:20170525T080000
DTEND;TZID=UTC:20170528T170000
DTSTAMP:20260419T185727
CREATED:20170914T202537Z
LAST-MODIFIED:20170914T202625Z
UID:4510-1495699200-1495990800@jessecampbelleventing.com
SUMMARY:Houghton International
DESCRIPTION:Lord George – CCI2* \nCleveland  – CIC3*
URL:https://jessecampbelleventing.com/calendar/houghton-international-2/
LOCATION:Houghton International\, Houghton Hall\, Kings Lynn\, Norfolk\, PE316UE\, United Kingdom
END:VEVENT
BEGIN:VEVENT
DTSTART;VALUE=DATE:20170520
DTEND;VALUE=DATE:20170521
DTSTAMP:20260419T185727
CREATED:20170914T202218Z
LAST-MODIFIED:20170914T202341Z
UID:4507-1495238400-1495324799@jessecampbelleventing.com
SUMMARY:Tweseledown Horse Trails
DESCRIPTION:Morning Faulty – 100 \nAppalachia – 100
URL:https://jessecampbelleventing.com/calendar/tweseledown-horse-trails/
END:VEVENT
BEGIN:VEVENT
DTSTART;VALUE=DATE:20170519
DTEND;VALUE=DATE:20170520
DTSTAMP:20260419T185727
CREATED:20170912T205500Z
LAST-MODIFIED:20170914T201952Z
UID:4476-1495152000-1495238399@jessecampbelleventing.com
SUMMARY:Rockingham
DESCRIPTION:I Spye – Novice \nFado – Novice \nCosa Nostra – Novice
URL:https://jessecampbelleventing.com/calendar/rockingham/
END:VEVENT
BEGIN:VEVENT
DTSTART;VALUE=DATE:20170512
DTEND;VALUE=DATE:20170513
DTSTAMP:20260419T185727
CREATED:20170912T205246Z
LAST-MODIFIED:20170914T201848Z
UID:4473-1494547200-1494633599@jessecampbelleventing.com
SUMMARY:Floors Castle Horse Trials
DESCRIPTION:Lord George – CIC 2* \nCleveland – OI
URL:https://jessecampbelleventing.com/calendar/floors-international/
LOCATION:Floors Castle Horse Trials\, Kelso\, Roxburghshire\, TD57SF\, United Kingdom
END:VEVENT
BEGIN:VEVENT
DTSTART;TZID=UTC:20170510T080000
DTEND;TZID=UTC:20170511T170000
DTSTAMP:20260419T185727
CREATED:20170417T200520Z
LAST-MODIFIED:20170417T200531Z
UID:4453-1494403200-1494522000@jessecampbelleventing.com
SUMMARY:Aston-Le-Walls
DESCRIPTION:Lord George – Intermediate \nCoas Nostra – Intermediate \nI Spye – Novice \nFado – Novice \nAppalachia – 100
URL:https://jessecampbelleventing.com/calendar/aston-le-walls-2/
LOCATION:Aston-le-Walls\, Washbrooke Farm\, Daventry\, Northhamptonshire\, NN116RT\, United Kingdom
END:VEVENT
BEGIN:VEVENT
DTSTART;TZID=UTC:20170503T080000
DTEND;TZID=UTC:20170507T170000
DTSTAMP:20260419T185727
CREATED:20170417T200058Z
LAST-MODIFIED:20170417T200114Z
UID:4449-1493798400-1494176400@jessecampbelleventing.com
SUMMARY:Mitsubishi Motors Badminton Horse Trials
DESCRIPTION:Kaapachino – ****
URL:https://jessecampbelleventing.com/calendar/mitsubishi-motors-badminton-horse-trials/
LOCATION:Badminton Horse Trials
END:VEVENT
BEGIN:VEVENT
DTSTART;TZID=UTC:20170429T080000
DTEND;TZID=UTC:20170430T170000
DTSTAMP:20260419T185727
CREATED:20170417T102910Z
LAST-MODIFIED:20170417T195719Z
UID:4443-1493452800-1493571600@jessecampbelleventing.com
SUMMARY:Withington Manor
DESCRIPTION:Cleveland – Adv. \nLord George – Int.
URL:https://jessecampbelleventing.com/calendar/withington-manor/
LOCATION:Withington Estate\, Nr Cheltenham\, Gloucestershire\, GL544BG\, United Kingdom
END:VEVENT
BEGIN:VEVENT
DTSTART;TZID=UTC:20170421T080000
DTEND;TZID=UTC:20170423T170000
DTSTAMP:20260419T185727
CREATED:20170417T102547Z
LAST-MODIFIED:20170417T102601Z
UID:4439-1492761600-1492966800@jessecampbelleventing.com
SUMMARY:Hambledon Horse Trials
DESCRIPTION:Morning Faulty – 100 \nAppalachia – 100 \nI Spye – CIC* \nFado – CIC* \nCosa Nostra – CIC*
URL:https://jessecampbelleventing.com/calendar/hambledon-horse-trials/
LOCATION:Hambledon Estate\, Greenlands\, Henley on Thames\, Oxon\, RG96RJ
END:VEVENT
BEGIN:VEVENT
DTSTART;TZID=UTC:20160928T080000
DTEND;TZID=UTC:20161002T170000
DTSTAMP:20260419T185727
CREATED:20160921T090408Z
LAST-MODIFIED:20160921T090408Z
UID:4300-1475049600-1475427600@jessecampbelleventing.com
SUMMARY:Osberton International Horse Trials
DESCRIPTION:Fado – CICYH* \nLord George – CCI**
URL:https://jessecampbelleventing.com/calendar/osberton-international-horse-trials/
LOCATION:Osberton International Horse Trials\, Osberton Estate\, Worksop\, Nottinghamshire\, DN228JH\, United Kingdom
END:VEVENT
BEGIN:VEVENT
DTSTART;TZID=UTC:20160923T080000
DTEND;TZID=UTC:20160924T170000
DTSTAMP:20260419T185727
CREATED:20160921T083633Z
LAST-MODIFIED:20160921T083633Z
UID:4295-1474617600-1474736400@jessecampbelleventing.com
SUMMARY:Moreton Morrell
DESCRIPTION:Bilboa – 100 \nGigolo VK – 100 \nCosa Nostra – N \nApart VD Hoefslag Z – ON
URL:https://jessecampbelleventing.com/calendar/moreton-morrell/
LOCATION:Moreton Morrell\, Warwickshire College\, Moreton Morrell\, Warwickshire\, CV359BL\, United Kingdom
END:VEVENT
BEGIN:VEVENT
DTSTART;TZID=UTC:20160916T080000
DTEND;TZID=UTC:20160918T170000
DTSTAMP:20260419T185727
CREATED:20160819T111204Z
LAST-MODIFIED:20160819T111204Z
UID:4260-1474012800-1474218000@jessecampbelleventing.com
SUMMARY:Gatcombe II - Whatley Manor International
DESCRIPTION:Lord George  CIC1* \nFado  CIC1* \nCosa Nostra  CIC1* \nI Spye  N.
URL:https://jessecampbelleventing.com/calendar/gatcombe-ii-whatley-manor-international/
LOCATION:Whatley Manor\, Gatcombe Park\, Minchinhampton\, Gloucestershire\, GL69AT\, United Kingdom
END:VEVENT
BEGIN:VEVENT
DTSTART;TZID=UTC:20160908T080000
DTEND;TZID=UTC:20160911T170000
DTSTAMP:20260419T185727
CREATED:20160818T213204Z
LAST-MODIFIED:20160818T213204Z
UID:4254-1473321600-1473613200@jessecampbelleventing.com
SUMMARY:Blenheim Palace International Horse Trials
DESCRIPTION:Amsterdam CIC3* \nKaapachino CIC3*
URL:https://jessecampbelleventing.com/calendar/blenheim-palace-international-horse-trials/
LOCATION:Blenheim Palace\, Woodstock\, Oxfordshire\, OX201PS\, United Kingdom
END:VEVENT
BEGIN:VEVENT
DTSTART;VALUE=DATE:20160903
DTEND;VALUE=DATE:20160904
DTSTAMP:20260419T185727
CREATED:20160818T212827Z
LAST-MODIFIED:20160819T102114Z
UID:4252-1472860800-1472947199@jessecampbelleventing.com
SUMMARY:Goring Heath
DESCRIPTION:Cosa Nostra  – N \nFado  – N \nMorning Faulty – 100 \nGigilo VK  – 100
URL:https://jessecampbelleventing.com/calendar/goring/
LOCATION:Goring Heath\, Copyhold Farm\, Reading\, Oxfordshire\, RG87RT\, United Kingdom
END:VEVENT
BEGIN:VEVENT
DTSTART;TZID=UTC:20160825T080000
DTEND;TZID=UTC:20160828T170000
DTSTAMP:20260419T185727
CREATED:20160819T105118Z
LAST-MODIFIED:20160819T105953Z
UID:4257-1472112000-1472403600@jessecampbelleventing.com
SUMMARY:Millstreet International Ireland
DESCRIPTION:Cleveland  CCI3* \nKaapachino  CIC3* \nMay Ryloa  CICYH1*
URL:https://jessecampbelleventing.com/calendar/millstreet-international/
LOCATION:Millstreet International\, Green Glens Arena\, Millstreet\, Co Cork\, WTY74WB9\, Ireland
END:VEVENT
BEGIN:VEVENT
DTSTART;TZID=UTC:20160819T080000
DTEND;TZID=UTC:20160821T170000
DTSTAMP:20260419T185727
CREATED:20160729T210744Z
LAST-MODIFIED:20160821T194549Z
UID:4224-1471593600-1471798800@jessecampbelleventing.com
SUMMARY:Somerford Park
DESCRIPTION:Lord George III   – CIC1*   Result: 5th from 119 \nMay Ryloa             – CIC1*   Withdrawn before event\, \nwill re-route to Millstreet International \nI Spye                     – Novice             6th \nFado                       – Novice            2nd \nGigolo VK            – 100                   2nd
URL:https://jessecampbelleventing.com/calendar/somerford-park/
LOCATION:Somerford Park\, Somerford Park Farm\, Congleton \, Cheshire\, CW12 4SW\, United Kingdom
END:VEVENT
BEGIN:VEVENT
DTSTART;VALUE=DATE:20160816
DTEND;VALUE=DATE:20160817
DTSTAMP:20260419T185727
CREATED:20160727T033203Z
LAST-MODIFIED:20160821T010359Z
UID:4156-1471305600-1471391999@jessecampbelleventing.com
SUMMARY:West Wilts (2)
DESCRIPTION:Lord George III – N. Withdrawn before event\, re-route to CIC* \nFado                    – N. 11th    Her first step up to Novice
URL:https://jessecampbelleventing.com/calendar/west-wilts-2/
LOCATION:West Wilts Equestrian Centre\, Melsham Road\, Trowbridge\, BA146QT\, United Kingdom
END:VEVENT
BEGIN:VEVENT
DTSTART;TZID=UTC:20160811T080000
DTEND;TZID=UTC:20160814T170000
DTSTAMP:20260419T185727
CREATED:20160810T093727Z
LAST-MODIFIED:20160821T010816Z
UID:4241-1470902400-1471194000@jessecampbelleventing.com
SUMMARY:Hartpury International
DESCRIPTION:Cleveland  CIC 3* – Result: 5th from 102! \n 
URL:https://jessecampbelleventing.com/calendar/hartpury-international/
LOCATION:Hartpury House\, Hartpury College\, Gloucester\, GL193BE\, United Kingdom
END:VEVENT
BEGIN:VEVENT
DTSTART;VALUE=DATE:20160809
DTEND;VALUE=DATE:20160810
DTSTAMP:20260419T185727
CREATED:20160727T032934Z
LAST-MODIFIED:20160818T211946Z
UID:4155-1470700800-1470787199@jessecampbelleventing.com
SUMMARY:Homme House (Much Marcle)
DESCRIPTION:Apart VD Hoefslag Z – ON.  5th \nGigilo VK – 5 Yr. Old.            1st \nLord George III – N.              1st
URL:https://jessecampbelleventing.com/calendar/homme-house-much-marcle/
LOCATION:Homme House\, Much Marche\, Herefordshire\, HR82NY\, United Kingdom
END:VEVENT
BEGIN:VEVENT
DTSTART;VALUE=DATE:20160808
DTEND;VALUE=DATE:20160809
DTSTAMP:20260419T185727
CREATED:20160727T031647Z
LAST-MODIFIED:20160727T031647Z
UID:4153-1470614400-1470700799@jessecampbelleventing.com
SUMMARY:Smiths Lawn
DESCRIPTION:Cosa Nostra – N \nI Spye – N \nMay Ryloa – N
URL:https://jessecampbelleventing.com/calendar/smiths-lawn/
LOCATION:Smiths Lawn\, Smiths Lawn\, Windsor Great Park\, Windsor\, Berkshire\, SL50OPT\, United Kingdom
END:VEVENT
BEGIN:VEVENT
DTSTART;TZID=UTC:20160805T080000
DTEND;TZID=UTC:20160807T170000
DTSTAMP:20260419T185727
CREATED:20160716T110123Z
LAST-MODIFIED:20160716T110123Z
UID:4151-1470384000-1470589200@jessecampbelleventing.com
SUMMARY:Gatcombe Park
DESCRIPTION:Kaapachino – CIC3*
URL:https://jessecampbelleventing.com/calendar/gatcombe-park/
LOCATION:Gatcombe Park\, Minchinhampton\, GL69AT
END:VEVENT
END:VCALENDAR